{"text_format":"3","workbook":"xlsx","n_sheets":9,"sheets":["BondingArtifact","Pillow","MOTDFrame","knob","gems","gaslight","ArtifactObsidian","Obsidian1retopo","Obsidian2etopo"],"read":"whole","date_system":"1900"}

{"sheet":"BondingArtifact","index":0,"n_rows":90,"n_cols":6,"rows_kept":90}
["Date","In","Out","HMS"]
["2023-07-02","21:23:27","21:48:27",{"$f":"IF(OR(ISBLANK(C2), ISBLANK(B2)), TIME(0, 15, 0), (C2 - B2) + TIME(0, 15, 0))","v":0.027777777777777825}]
["2024-01-09","13:35:57","17:44:27",{"$f":"IF(OR(ISBLANK(C3), ISBLANK(B3)), TIME(0, 15, 0), (C3 - B3) + TIME(0, 15, 0))","v":0.1829861111111111}]
["2024-01-10","19:33:28","19:53:31",0.02434027777777773]
["2024-01-11","16:55:01",null,0.010416666666666666]
[null,"18:45:29","23:40:54",0.21556712962962968]
["2024-01-12","00:05:22",null,0.010416666666666666]
[null,"14:00:50",null,0.010416666666666666]
[null,"19:34:09",null,0.010416666666666666]
["2024-01-13","01:46:04","02:02:45",0.022002314814814815]
[null,"13:29:36","14:12:53",0.04047453703703711]
["2024-01-14","15:55:22","18:54:34",0.13486111111111113]
[null,"20:02:03","21:15:06",0.06114583333333327]
[null,"23:04:34","23:40:20",0.03525462962962959]
["2024-01-15","20:59:20","21:46:10",0.042939814814814826]
["2024-01-16","01:03:40","01:08:09",0.013530092592592595]
[null,"11:41:14","15:51:27",0.18417824074074077]
[null,"17:58:46","19:27:03",0.071724537037037]
[null,"23:19:13",null,0.010416666666666666]
["2024-01-17","15:41:25",null,0.010416666666666666]
[null,"18:20:07","19:43:20",0.06820601851851853]
[null,"21:45:49","22:23:52",0.03684027777777769]
["2024-01-18","14:08:05","21:23:40",0.31290509259259264]
["2024-01-22","00:42:24",null,0.010416666666666666]
[null,"16:18:04","22:44:53",0.27903935185185186]
["2024-01-23","12:48:42","14:26:56",0.0786342592592593]
["2024-02-19","18:51:54",null,0.010416666666666666]
[null,"21:43:09",null,0.010416666666666666]
["2024-02-20","08:32:09","09:59:23",0.07099537037037039]
[null,"12:22:00","18:29:25",0.26556712962962975]
["2024-03-18","13:50:50","22:22:42",0.36587962962962967]
["2024-03-24","15:39:18","15:46:54",0.01569444444444438]
["2024-04-02","13:31:48","14:34:20",0.05384259259259264]
["2024-04-09","19:14:57","19:20:07",0.014004629629629598]
["2024-04-10","13:00:59","13:20:06",0.023692129629629667]
[null,"16:18:02","17:09:54",0.046435185185185225]
["2024-04-11","13:44:33","14:30:54",0.04260416666666659]
[null,"17:46:51","19:34:12",0.08496527777777778]
[null,"21:05:05",null,0.010416666666666666]
["2024-04-13","23:29:41","23:45:58",0.021724537037037063]
["2024-06-02","21:46:48","23:50:07",0.09605324074074077]
[null,"00:50:15",null,0.010416666666666666]
["2024-06-03","18:19:26","20:33:53",0.10378472222222217]
[null,"23:03:05","23:15:45",0.019212962962962966]
["2024-06-04","11:56:03",null,0.010416666666666666]
["2024-07-29","16:45:04","19:03:21",0.10644675925925921]
["2024-08-14","10:40:41","13:34:03",0.1308101851851852]
[null,"17:08:42","18:05:35",0.049918981481481474]
["2024-08-21","12:39:14",null,0.010416666666666666]
["2024-11-20","09:22:59","15:07:23",0.2495833333333333]
["2024-12-18","09:02:49",null,0.010416666666666666]
["2025-01-08","18:13:31",null,0.010416666666666666]
[{"$nulls":4},"Pay","Hourly Rate"]
[null,null,"Total",{"$f":"SUM(D2:D53)","v":3.749872685185184},{"$f":"D54*F54*24","v":{"v":2249.9236111111104,"d":"$2,249.92"}},{"$f":"F58","v":{"v":25,"d":"$25.00"}}]
[]
[]
[]
[null,null,"Pillow",{"$f":"Pillow!D8","v":0.28577546296296297},{"$f":"D58*F58*24","v":{"v":171.46527777777777,"d":"$171.47"}},{"v":25,"d":"$25.00"}]
[null,null,"MOTDFrame",{"$f":"MOTDFrame!D10","v":0.42180555555555543},{"v":253.08333333333326,"d":"$253.08"},{"$f":"F58","v":{"v":25,"d":"$25.00"}}]
[null,null,"knob",{"$f":"knob!D9","v":0.399988425925926},{"v":239.99305555555557,"d":"$239.99"},{"$f":"F58","v":{"v":25,"d":"$25.00"}}]
[null,null,"gems",{"$f":"gems!D18","v":0.9871527777777777},{"v":592.2916666666666,"d":"$592.29"},{"$f":"F58","v":{"v":25,"d":"$25.00"}}]
[null,null,"gaslight",{"$f":"gaslight!D10","v":0.3787037037037038},{"v":227.22222222222229,"d":"$227.22"},{"$f":"F58","v":{"v":25,"d":"$25.00"}}]
[null,null,"ArtifactObsidian",{"$f":"ArtifactObsidian!D24","v":1.6042824074074078},{"v":962.5694444444448,"d":"$962.57"},{"$f":"F58","v":{"v":25,"d":"$25.00"}}]
[null,null,"OB1retopo",{"$f":"Obsidian1retopo!D18","v":1.7393171296296297},{"v":1043.5902777777778,"d":"$1,043.59"},{"$f":"F58","v":{"v":25,"d":"$25.00"}}]
[null,null,"OB2retopo",{"$f":"Obsidian2etopo!D20","v":1.989386574074074},{"v":1193.6319444444443,"d":"$1,193.63"},{"$f":"F58","v":{"v":25,"d":"$25.00"}}]
[null,null,"GRAND",{"$f":"SUM(D54,Pillow!D8,MOTDFrame!D10,knob!D9,gems!D18,gaslight!D10,ArtifactObsidian!D24,Obsidian1retopo!D18,Obsidian2etopo!D20)","v":"1900-01-11T13:21:03"},{"v":6933.770833333333,"d":"$6,933.77"},{"$f":"F58","v":{"v":25,"d":"$25.00"}}]
[{"$nulls":3},{"$f":"SUM(D54,Pillow!D8,MOTDFrame!D10,knob!D9,gems!D18,gaslight!D10,ArtifactObsidian!D24,Obsidian1retopo!D18,Obsidian2etopo!D20)","v":11.556284722222221},{"v":6933.770833333333,"d":"$6,933.77"},{"$f":"F58","v":{"v":25,"d":"$25.00"}}]
[null,null,"hours already in steam",110]
[null,null,"hours left",{"$f":"D67+SUM(E71:E84)-SUM(D71:D91)","v":-0.08195601851851997}]
[{"$nulls":3},"minus","plus"]
[{"$nulls":3},0.32663194444444443,"09:00:00"]
[{"$nulls":3},"16:50:53","00:30:00"]
[{"$nulls":3},"22:38:21","01:00:00"]
[{"$nulls":3},"05:35:30","02:17:00"]
[{"$nulls":3},"11:10:20"]
[{"$nulls":3},"09:48:51"]
[{"$nulls":3},"14:05:29"]
[null,null,"12:31:30 interrupted, event viewer says rebooted @4:30? It's 7:00 now…","10:00:30"]
[{"$nulls":3},"18:26:13"]
[null,null,"I messed up","21:00:00"]
[{"$nulls":3},1.0816550925925925]
[{"$nulls":3},"03:28:18"]
[{"$nulls":3},"07:41:00"]
[{"$nulls":3},1.2033680555555555]
[{"$nulls":3},"17:49:05"]
[{"$nulls":3},"16:23:01"]
[null,null,"yet another hard crash…","15:48:43"]
[{"$nulls":3},"13:25:40"]
[{"$nulls":3},"20:02:20"]
[{"$nulls":3},"05:11:03"]

{"sheet":"Pillow","index":1,"n_rows":8,"n_cols":6,"rows_kept":8}
["Date","In","Out","HMS"]
["2024-01-23","14:52:35","16:47:00",{"$f":"IF(OR(ISBLANK(C2), ISBLANK(B2)), TIME(0, 15, 0), (C2 - B2) + TIME(0, 15, 0))","v":0.08987268518518514}]
["2024-01-24","19:26:56","20:05:00",0.03685185185185184]
["2024-02-19","18:44:38","21:36:26",0.1297222222222222]
["2024-02-20","09:18:39",null,0.010416666666666666]
[null,"17:03:35","17:15:49",0.018912037037037067]
[{"$nulls":4},"Pay","Hourly Rate"]
[null,null,"Total",{"$f":"SUM(D2:D7)","v":0.28577546296296297},{"$f":"D8*F8*24","v":{"v":171.46527777777777,"d":"$171.47"}},{"$f":"BondingArtifact!F58","v":{"v":25,"d":"$25.00"}}]

{"sheet":"MOTDFrame","index":2,"n_rows":10,"n_cols":6,"rows_kept":10}
["Date","In","Out","HMS"]
["2024-07-29","18:42:27",null,{"$f":"IF(OR(ISBLANK(C2), ISBLANK(B2)), TIME(0, 15, 0), (C2 - B2) + TIME(0, 15, 0))","v":0.010416666666666666}]
["2024-07-30","17:10:43","17:56:04",0.04190972222222215]
["2024-08-10","13:58:45","16:50:50",0.12991898148148143]
["2024-08-11","11:53:54","13:21:00",0.0709027777777778]
["2024-08-12","07:02:12","10:07:40",0.13921296296296296]
[null,"12:40:50","12:46:23",0.014270833333333269]
[null,"14:07:09","14:14:00",0.015173611111111077]
[{"$nulls":4},"Pay","Hourly Rate"]
[null,null,"Total",{"$f":"SUM(D2:D9)","v":0.42180555555555543},{"$f":"D10*F10*24","v":{"v":253.08333333333326,"d":"$253.08"}},{"$f":"BondingArtifact!F58","v":{"v":25,"d":"$25.00"}}]

{"sheet":"knob","index":3,"n_rows":9,"n_cols":6,"rows_kept":9}
["Date","In","Out","HMS"]
["2024-01-17","19:04:04","19:42:48",{"$f":"IF(OR(ISBLANK(C2), ISBLANK(B2)), TIME(0, 15, 0), (C2 - B2) + TIME(0, 15, 0))","v":0.037314814814814724}]
["2024-01-20","16:19:49","18:32:06",{"$f":"IF(OR(ISBLANK(C3), ISBLANK(B3)), TIME(0, 15, 0), (C3 - B3) + TIME(0, 15, 0))","v":0.10228009259259267}]
["2024-01-21","15:11:08","19:26:21",0.18765046296296298]
[null,"23:24:11",null,0.010416666666666666]
["2024-01-22","00:07:52","00:28:50",0.02497685185185185]
[null,"15:25:09","16:03:56",0.03734953703703706]
[{"$nulls":5},"Hourly Rate"]
[null,null,"Total",{"$f":"SUM(D2:D8)","v":0.399988425925926},{"$f":"D9*F9*24","v":{"v":239.99305555555557,"d":"$239.99"}},{"$f":"BondingArtifact!F58","v":{"v":25,"d":"$25.00"}}]

{"sheet":"gems","index":4,"n_rows":18,"n_cols":6,"rows_kept":18}
["Date","In","Out","HMS"]
["2023-07-02","21:23:27","21:48:27",{"$f":"IF(OR(ISBLANK(C2), ISBLANK(B2)), TIME(0, 15, 0), (C2 - B2) + TIME(0, 15, 0))","v":0.027777777777777825}]
["2024-04-15","08:48:13","09:02:21",{"$f":"IF(OR(ISBLANK(C3), ISBLANK(B3)), TIME(0, 15, 0), (C3 - B3) + TIME(0, 15, 0))","v":0.02023148148148144}]
[null,"12:09:27","12:57:38",{"$f":"IF(OR(ISBLANK(C4), ISBLANK(B4)), TIME(0, 15, 0), (C4 - B4) + TIME(0, 15, 0))","v":0.04387731481481475}]
[null,"15:59:20","18:50:44",0.1294444444444444]
["2024-04-16","16:00:40","17:56:42",0.09099537037037035]
["2024-05-23","18:13:34","21:03:12",0.1282175925925926]
["2024-05-24","19:08:47","19:45:24",0.03584490740740746]
["2024-05-26","12:17:57","13:35:53",0.0645370370370371]
["2024-05-27","15:59:00","16:21:23",0.02596064814814817]
["2024-05-28","11:55:52","15:07:15",0.14332175925925925]
["2024-05-29","13:56:40","16:39:16",0.12333333333333334]
["2024-05-30","14:33:27","16:16:13",0.08178240740740743]
[null,"21:00:43",null,0.010416666666666666]
["2024-06-02","16:08:18","16:37:21",0.03059027777777782]
[null,"19:32:59","20:02:22",0.030821759259259264]
[{"$nulls":5},"Hourly Rate"]
[null,null,"Total",{"$f":"SUM(D2:D17)","v":0.9871527777777777},{"$f":"D18*F18*24","v":{"v":592.2916666666666,"d":"$592.29"}},{"$f":"BondingArtifact!F58","v":{"v":25,"d":"$25.00"}}]

{"sheet":"gaslight","index":5,"n_rows":10,"n_cols":6,"rows_kept":10}
["Date","In","Out","HMS"]
["2023-07-02","21:23:27","21:48:27",{"$f":"IF(OR(ISBLANK(C2), ISBLANK(B2)), TIME(0, 15, 0), (C2 - B2) + TIME(0, 15, 0))","v":0.027777777777777825}]
["2024-03-24","16:02:22","17:15:08",{"$f":"IF(OR(ISBLANK(C3), ISBLANK(B3)), TIME(0, 15, 0), (C3 - B3) + TIME(0, 15, 0))","v":0.06094907407407416}]
[null,"19:03:43","19:16:49",{"$f":"IF(OR(ISBLANK(C4), ISBLANK(B4)), TIME(0, 15, 0), (C4 - B4) + TIME(0, 15, 0))","v":0.019513888888888865}]
["2024-03-25","19:21:40",null,{"$f":"IF(OR(ISBLANK(C5), ISBLANK(B5)), TIME(0, 15, 0), (C5 - B5) + TIME(0, 15, 0))","v":0.010416666666666666}]
["2024-03-26","15:56:33",null,0.010416666666666666]
["2024-04-01","12:02:08","17:31:36",0.23921296296296293]
["2024-04-02","12:51:54",null,0.010416666666666666]
[{"$nulls":5},"Hourly Rate"]
[null,null,"Total",{"$f":"SUM(D2:D9)","v":0.3787037037037038},{"$f":"D10*F10*24","v":{"v":227.22222222222229,"d":"$227.22"}},{"$f":"BondingArtifact!F58","v":{"v":25,"d":"$25.00"}}]

{"sheet":"ArtifactObsidian","index":6,"n_rows":24,"n_cols":6,"rows_kept":24}
["Date","In","Out","HMS"]
["2024-08-21","13:17:45","15:17:02",{"$f":"IF(OR(ISBLANK(C2), ISBLANK(B2)), TIME(0, 15, 0), (C2 - B2) + TIME(0, 15, 0))","v":0.09325231481481482}]
["2024-08-24","15:17:28",null,{"$f":"IF(OR(ISBLANK(C3), ISBLANK(B3)), TIME(0, 15, 0), (C3 - B3) + TIME(0, 15, 0))","v":0.010416666666666666}]
["2024-09-02","14:44:56","14:59:46",0.020717592592592683]
["2024-09-03","17:00:12","18:44:45",0.08302083333333336]
["2024-09-04","11:08:05","12:30:43",0.06780092592592589]
["2024-11-21","15:16:42","17:42:15",0.11149305555555548]
["2024-11-22","15:48:38","18:25:04",0.11905092592592596]
["2024-11-25","10:00:35","15:35:42",0.24313657407407405]
["2024-11-27","11:36:36","18:12:00",0.285]
["2024-11-29","16:21:20","16:56:21",0.03473379629629628]
["2024-11-30","12:30:43","14:50:33",0.10752314814814816]
["2024-12-01","11:26:24","13:38:04",0.10185185185185179]
[null,"16:32:49","17:02:50",0.031261574074074074]
["2024-12-02","00:08:01",null,0.010416666666666666]
[null,"17:22:30",null,0.010416666666666666]
["2024-12-03","13:53:50","14:54:45",0.05271990740740743]
["2024-12-04","10:18:39",null,0.010416666666666666]
[null,"11:05:28","12:59:13",0.0894097222222222]
[null,"15:37:02","17:47:12",0.1008101851851853]
["2024-12-14","18:26:41",null,0.010416666666666666]
["2024-12-16","15:44:16",null,0.010416666666666666]
[{"$nulls":5},"Hourly Rate"]
[null,null,"Total",{"$f":"SUM(D2:D23)","v":1.6042824074074078},{"$f":"D24*F24*24","v":{"v":962.5694444444448,"d":"$962.57"}},{"$f":"BondingArtifact!F58","v":{"v":25,"d":"$25.00"}}]

{"sheet":"Obsidian1retopo","index":7,"n_rows":18,"n_cols":6,"rows_kept":18}
["Date","In","Out","HMS"]
["2024-08-21","13:17:45","15:17:02",{"$f":"IF(OR(ISBLANK(C2), ISBLANK(B2)), TIME(0, 15, 0), (C2 - B2) + TIME(0, 15, 0))","v":0.09325231481481482}]
["2024-12-05","14:28:44","16:37:41",{"$f":"IF(OR(ISBLANK(C3), ISBLANK(B3)), TIME(0, 15, 0), (C3 - B3) + TIME(0, 15, 0))","v":0.09996527777777779}]
["2024-12-06","15:10:59","16:43:46",0.07484953703703705]
["2024-12-07","11:51:15","17:14:46",0.23508101851851856]
["2024-12-08","16:16:28","18:50:56",0.11768518518518516]
["2024-12-09","06:43:01","14:26:46",0.3324652777777778]
["2024-12-10","15:36:45",null,0.010416666666666666]
[null,"17:00:16","18:18:08",0.06449074074074072]
["2024-12-11","13:35:51","17:50:17",0.18710648148148148]
["2024-12-13","14:21:49","17:46:33",0.15259259259259253]
["2024-12-14","15:51:11","19:16:03",0.15268518518518517]
["2024-12-15","09:46:17","11:59:46",0.10311342592592591]
[null,"14:19:01",null,0.010416666666666666]
[null,"16:14:15","18:15:44",0.09478009259259261]
["2024-12-16","10:42:40",null,0.010416666666666666]
[{"$nulls":5},"Hourly Rate"]
[null,null,"Total",{"$f":"SUM(D2:D17)","v":1.7393171296296297},{"$f":"D18*F18*24","v":{"v":1043.5902777777778,"d":"$1,043.59"}},{"$f":"BondingArtifact!F58","v":{"v":25,"d":"$25.00"}}]

{"sheet":"Obsidian2etopo","index":8,"n_rows":20,"n_cols":6,"rows_kept":20}
["Date","In","Out","HMS"]
["2024-08-21","13:17:45","15:17:02",{"$f":"IF(OR(ISBLANK(C2), ISBLANK(B2)), TIME(0, 15, 0), (C2 - B2) + TIME(0, 15, 0))","v":0.09325231481481482}]
["2024-12-16","11:33:24",null,{"$f":"IF(OR(ISBLANK(C3), ISBLANK(B3)), TIME(0, 15, 0), (C3 - B3) + TIME(0, 15, 0))","v":0.010416666666666666}]
[null,"13:05:40","15:31:16",0.11152777777777782]
["2024-12-17","15:01:08","17:04:20",0.09597222222222217]
["2024-12-18","09:22:07","14:17:01",0.2152083333333333]
[null,"16:18:48","17:40:07",0.0668865740740741]
["2024-12-19","14:05:29","17:48:07",0.16502314814814814]
["2024-12-20","16:11:44","17:21:30",0.058865740740740725]
["2024-12-22","14:24:16","18:52:17",0.19653935185185192]
["2024-12-23","14:12:16","19:53:50",0.2476157407407407]
["2024-12-24","13:40:56","16:43:06",0.13692129629629626]
["2024-12-29","13:49:23","15:43:50",0.08989583333333333]
["2024-12-30","10:44:31","12:51:53",0.09886574074074077]
[null,"17:10:03","18:15:15",0.055694444444444414]
["2025-01-01","12:39:30","17:40:28",0.21942129629629628]
["2025-01-05","17:10:00",null,0.010416666666666666]
["2025-01-06","13:19:51","15:53:08",0.11686342592592595]
[{"$nulls":5},"Hourly Rate"]
[null,null,"Total",{"$f":"SUM(D2:D19)","v":1.989386574074074},{"$f":"D20*F20*24","v":{"v":1193.6319444444443,"d":"$1,193.63"}},{"$f":"BondingArtifact!F58","v":{"v":25,"d":"$25.00"}}]